BEGIN:VCALENDAR
VERSION:2.0
METHOD:PUBLISH
PRODID:-//hacksw/handcal//NONSGML v1.0//EN
BEGIN:VEVENT
DTSTAMP:20260424T210236Z
DTSTART:20200119T230000Z
DTEND:20200119T230000Z
UID:20200119T230000Z-20200119T230000Z-44@www.schule-litzendorf.de
SUMMARY:Schullaufbahnberatung 6. Klassen Schulhaus Scheßlitz
DESCRIPTION:
X-ALT-DESC;FMTTYPE=text/html:
URL:https://www.schule-litzendorf.de/termine/schullaufbahnberatung-6-k
 lassen-schulhaus-schesslitz/?lang=de
ATTACH:https://www.schule-litzendorf.de/termine/schullaufbahnberatung-
 6-klassen-schulhaus-schesslitz/?lang=de
END:VEVENT
END:VCALENDAR
